BEGIN:VCALENDAR
VERSION:2.0
PRODID:-//104.27.183.32//NONSGML kigkonsult.se iCalcreator 2.26.9//
CALSCALE:GREGORIAN
METHOD:PUBLISH
X-FROM-URL:https://carlisleps.wa.edu.au
X-WR-TIMEZONE:Australia/Perth
BEGIN:VTIMEZONE
TZID:Australia/Perth
X-LIC-LOCATION:Australia/Perth
BEGIN:STANDARD
DTSTART:20090329T030000
TZOFFSETFROM:+0900
TZOFFSETTO:+0800
TZNAME:AWST
END:STANDARD
END:VTIMEZONE
BEGIN:VEVENT
UID:ai1ec-986@carlisleps.wa.edu.au
DTSTAMP:20200228T002046Z
CATEGORIES:
CONTACT:
DESCRIPTION:Last day for students to attend in Term 1.
DTSTART;VALUE=DATE:20200409
DTEND;VALUE=DATE:20200410
SEQUENCE:0
SUMMARY:Last Day of Term 1
URL:https://carlisleps.wa.edu.au/event/last-day-of-term-1-2/
X-COST-TYPE:free
X-ALT-DESC;FMTTYPE=text/html:<!DOCTYPE HTML PUBLIC '-//W3C//DTD HTML 3.2//E
 N'>\\n<HTML>\\n<HEAD>\\n<TITLE></TITLE>\\n</HEAD>\\n<BODY><p>Last day for 
 students to attend in Term 1.</p>\n</BODY></HTML>
END:VEVENT
BEGIN:VEVENT
UID:ai1ec-983@carlisleps.wa.edu.au
DTSTAMP:20200228T002046Z
CATEGORIES;LANGUAGE=en-AU:Everyone\,Year 6
CONTACT:
DESCRIPTION:Students are not required to attend on this day.
DTSTART;VALUE=DATE:20200410
DTEND;VALUE=DATE:20200411
SEQUENCE:0
SUMMARY:Public Holiday – Good Friday
URL:https://carlisleps.wa.edu.au/event/public-holiday-good-friday/
X-COST-TYPE:free
X-ALT-DESC;FMTTYPE=text/html:<!DOCTYPE HTML PUBLIC '-//W3C//DTD HTML 3.2//E
 N'>\\n<HTML>\\n<HEAD>\\n<TITLE></TITLE>\\n</HEAD>\\n<BODY><p>Students are 
 not required to attend on this day.</p>\n</BODY></HTML>
END:VEVENT
BEGIN:VEVENT
UID:ai1ec-996@carlisleps.wa.edu.au
DTSTAMP:20200228T002046Z
CATEGORIES;LANGUAGE=en-AU:Everyone
CONTACT:
DESCRIPTION:Students are not required to attend on this day.
DTSTART;VALUE=DATE:20200428
DTEND;VALUE=DATE:20200429
SEQUENCE:0
SUMMARY:School Development Day
URL:https://carlisleps.wa.edu.au/event/school-development-day-3/
X-COST-TYPE:free
X-ALT-DESC;FMTTYPE=text/html:<!DOCTYPE HTML PUBLIC '-//W3C//DTD HTML 3.2//E
 N'>\\n<HTML>\\n<HEAD>\\n<TITLE></TITLE>\\n</HEAD>\\n<BODY><p>Students are 
 not required to attend on this day.</p>\n</BODY></HTML>
END:VEVENT
BEGIN:VEVENT
UID:ai1ec-984@carlisleps.wa.edu.au
DTSTAMP:20200228T002046Z
CATEGORIES;LANGUAGE=en-AU:Everyone
CONTACT:
DESCRIPTION:First day back for students in Term 2
DTSTART;VALUE=DATE:20200429
DTEND;VALUE=DATE:20200430
LOCATION:Carlisle Primary School
SEQUENCE:0
SUMMARY:First Day of Term 2
URL:https://carlisleps.wa.edu.au/event/last-day-of-term-1/
X-COST-TYPE:free
X-ALT-DESC;FMTTYPE=text/html:<!DOCTYPE HTML PUBLIC '-//W3C//DTD HTML 3.2//E
 N'>\\n<HTML>\\n<HEAD>\\n<TITLE></TITLE>\\n</HEAD>\\n<BODY><p>First day bac
 k for students in Term 2</p>\n</BODY></HTML>
END:VEVENT
BEGIN:VEVENT
UID:ai1ec-999@carlisleps.wa.edu.au
DTSTAMP:20200228T002046Z
CATEGORIES;LANGUAGE=en-AU:Everyone
CONTACT:
DESCRIPTION:Semester 1 reports will be sent home with students.
DTSTART;VALUE=DATE:20200624
DTEND;VALUE=DATE:20200625
SEQUENCE:0
SUMMARY:Student Reports Home
URL:https://carlisleps.wa.edu.au/event/student-reports-home/
X-COST-TYPE:free
X-ALT-DESC;FMTTYPE=text/html:<!DOCTYPE HTML PUBLIC '-//W3C//DTD HTML 3.2//E
 N'>\\n<HTML>\\n<HEAD>\\n<TITLE></TITLE>\\n</HEAD>\\n<BODY><p>Semester 1 re
 ports will be sent home with students.</p>\n</BODY></HTML>
END:VEVENT
BEGIN:VEVENT
UID:ai1ec-989@carlisleps.wa.edu.au
DTSTAMP:20200228T002046Z
CATEGORIES:
CONTACT:
DESCRIPTION:
DTSTART;VALUE=DATE:20200703
DTEND;VALUE=DATE:20200704
SEQUENCE:0
SUMMARY:Last Day of Term 2
URL:https://carlisleps.wa.edu.au/event/last-day-of-term-2/
X-COST-TYPE:free
END:VEVENT
BEGIN:VEVENT
UID:ai1ec-995@carlisleps.wa.edu.au
DTSTAMP:20200228T002046Z
CATEGORIES;LANGUAGE=en-AU:Everyone
CONTACT:
DESCRIPTION:Students are not required to attend on this day.
DTSTART;VALUE=DATE:20200720
DTEND;VALUE=DATE:20200721
SEQUENCE:0
SUMMARY:School Development Day
URL:https://carlisleps.wa.edu.au/event/school-development-day-2/
X-COST-TYPE:free
X-ALT-DESC;FMTTYPE=text/html:<!DOCTYPE HTML PUBLIC '-//W3C//DTD HTML 3.2//E
 N'>\\n<HTML>\\n<HEAD>\\n<TITLE></TITLE>\\n</HEAD>\\n<BODY><p>Students are 
 not required to attend on this day.</p>\n</BODY></HTML>
END:VEVENT
BEGIN:VEVENT
UID:ai1ec-990@carlisleps.wa.edu.au
DTSTAMP:20200228T002046Z
CATEGORIES:
CONTACT:
DESCRIPTION:
DTSTART;VALUE=DATE:20200721
DTEND;VALUE=DATE:20200722
SEQUENCE:0
SUMMARY:First Day Term 3
URL:https://carlisleps.wa.edu.au/event/first-day-term-3/
X-COST-TYPE:free
END:VEVENT
BEGIN:VEVENT
UID:ai1ec-991@carlisleps.wa.edu.au
DTSTAMP:20200228T002046Z
CATEGORIES;LANGUAGE=en-AU:Everyone
CONTACT:
DESCRIPTION:
DTSTART;VALUE=DATE:20200925
DTEND;VALUE=DATE:20200926
SEQUENCE:0
SUMMARY:Last Day Term 3
URL:https://carlisleps.wa.edu.au/event/last-day-term-3/
X-COST-TYPE:free
END:VEVENT
BEGIN:VEVENT
UID:ai1ec-992@carlisleps.wa.edu.au
DTSTAMP:20200228T002046Z
CATEGORIES:
CONTACT:
DESCRIPTION:
DTSTART;VALUE=DATE:20201012
DTEND;VALUE=DATE:20201013
SEQUENCE:0
SUMMARY:First Day Term 4
URL:https://carlisleps.wa.edu.au/event/first-day-term-4/
X-COST-TYPE:free
END:VEVENT
BEGIN:VEVENT
UID:ai1ec-994@carlisleps.wa.edu.au
DTSTAMP:20200228T002046Z
CATEGORIES:
CONTACT:
DESCRIPTION:Students are not required to attend on this day.
DTSTART;VALUE=DATE:20201204
DTEND;VALUE=DATE:20201205
SEQUENCE:0
SUMMARY:School Development Day
URL:https://carlisleps.wa.edu.au/event/school-development-day/
X-COST-TYPE:free
X-ALT-DESC;FMTTYPE=text/html:<!DOCTYPE HTML PUBLIC '-//W3C//DTD HTML 3.2//E
 N'>\\n<HTML>\\n<HEAD>\\n<TITLE></TITLE>\\n</HEAD>\\n<BODY><p>Students are 
 not required to attend on this day.</p>\n</BODY></HTML>
END:VEVENT
BEGIN:VEVENT
UID:ai1ec-993@carlisleps.wa.edu.au
DTSTAMP:20200228T002046Z
CATEGORIES:
CONTACT:
DESCRIPTION:
DTSTART;VALUE=DATE:20201217
DTEND;VALUE=DATE:20201218
SEQUENCE:0
SUMMARY:Last Day Term 4
URL:https://carlisleps.wa.edu.au/event/last-day-term-4/
X-COST-TYPE:free
END:VEVENT
BEGIN:VEVENT
UID:540-1580719800-1580742000@carlisleps.wa.edu.au
DTSTAMP:20200228T002046Z
CATEGORIES:
CONTACT:
DESCRIPTION:
DTSTART;TZID=Australia/Perth:20200203T085000
DTEND;TZID=Australia/Perth:20200203T150000
SEQUENCE:0
SUMMARY:Students’ First Day 2020
URL:https://carlisleps.wa.edu.au/event/students-first-day-2020/
X-COST-TYPE:free
END:VEVENT
BEGIN:VEVENT
UID:888-1582102500-1582104600@carlisleps.wa.edu.au
DTSTAMP:20200228T002046Z
CATEGORIES;LANGUAGE=en-AU:Everyone
CONTACT:
DESCRIPTION:Our first assembly for the year will be hosted by our Student C
 ouncillors. Assemblies are an opportunity to share in the celebrations of 
 students’ learning successes\, provide updates on school events and inform
 ation\, and enjoy a performance/item from our students. Please check the c
 alendar for future assembly dates.
DTSTART;TZID=Australia/Perth:20200219T085500
DTEND;TZID=Australia/Perth:20200219T093000
LOCATION:Undercover Area\, 1 Wright Street\, Kewdale\, WA\, 6105\, Australi
 a
SEQUENCE:0
SUMMARY:Assembly – Councillors
URL:https://carlisleps.wa.edu.au/event/assembly-councillors/
X-ALT-DESC;FMTTYPE=text/html:<!DOCTYPE HTML PUBLIC '-//W3C//DTD HTML 3.2//E
 N'>\\n<HTML>\\n<HEAD>\\n<TITLE></TITLE>\\n</HEAD>\\n<BODY><p>Our first ass
 embly for the year will be hosted by our Student Councillors. Assemblies a
 re an opportunity to share in the celebrations of students’ learning succe
 sses\, provide updates on school events and information\, and enjoy a perf
 ormance/item from our students. Please check the calendar for future assem
 bly dates. </p>\n</BODY></HTML>
END:VEVENT
BEGIN:VEVENT
UID:393-1582707000-1582759800@carlisleps.wa.edu.au
DTSTAMP:20200228T002046Z
CATEGORIES;LANGUAGE=en-AU:Everyone
CONTACT:
DESCRIPTION:Students will attend school from 8:50am until 11.30am. Parent-t
 eacher meetings will begin at 12pm.
DTSTART;TZID=Australia/Perth:20200226T085000
DTEND;TZID=Australia/Perth:20200226T233000
SEQUENCE:0
SUMMARY:Half Day Closure
URL:https://carlisleps.wa.edu.au/event/half-day-closure/
X-ALT-DESC;FMTTYPE=text/html:<!DOCTYPE HTML PUBLIC '-//W3C//DTD HTML 3.2//E
 N'>\\n<HTML>\\n<HEAD>\\n<TITLE></TITLE>\\n</HEAD>\\n<BODY><p>Students will
  attend school from 8:50am until 11.30am. Parent-teacher meetings will beg
 in at 12pm. </p>\n</BODY></HTML>
END:VEVENT
BEGIN:VEVENT
UID:395-1582718400-1582736400@carlisleps.wa.edu.au
DTSTAMP:20200228T002046Z
CATEGORIES;LANGUAGE=en-AU:Everyone
CONTACT:
DESCRIPTION:Parent-Teacher meetings will begin at 12pm. Please ensure you h
 ave booked a time online with your child’s teacher.
DTSTART;TZID=Australia/Perth:20200226T120000
DTEND;TZID=Australia/Perth:20200226T170000
SEQUENCE:0
SUMMARY:Parent-Teacher Meetings
URL:https://carlisleps.wa.edu.au/event/parent-teacher-meetings/
X-ALT-DESC;FMTTYPE=text/html:<!DOCTYPE HTML PUBLIC '-//W3C//DTD HTML 3.2//E
 N'>\\n<HTML>\\n<HEAD>\\n<TITLE></TITLE>\\n</HEAD>\\n<BODY><p>Parent-Teache
 r meetings will begin at 12pm. Please ensure you have booked a time online
  with your child’s teacher. </p>\n</BODY></HTML>
END:VEVENT
BEGIN:VEVENT
UID:ai1ec-982@carlisleps.wa.edu.au
DTSTAMP:20200228T002046Z
CATEGORIES:
CONTACT:
DESCRIPTION:Harmony Day will be a day filled with fun for the whole family 
 to enjoy. The day will include a cultural dress parade\, community dance\,
  assembly\, and a shared lunch. It will be a day not to be missed.
DTSTART;TZID=Australia/Perth:20200318T085000
DTEND;TZID=Australia/Perth:20200318T150000
LOCATION:Carlisle Primary School @ 1 Wright Street KEWDALE 6105
SEQUENCE:0
SUMMARY:Harmony Day Celebrations
URL:https://carlisleps.wa.edu.au/event/harmony-day-celebrations/
X-COST-TYPE:free
X-ALT-DESC;FMTTYPE=text/html:<!DOCTYPE HTML PUBLIC '-//W3C//DTD HTML 3.2//E
 N'>\\n<HTML>\\n<HEAD>\\n<TITLE></TITLE>\\n</HEAD>\\n<BODY><p>Harmony Day w
 ill be a day filled with fun for the whole family to enjoy. The day will i
 nclude a cultural dress parade\, community dance\, assembly\, and a shared
  lunch. It will be a day not to be missed.</p>\n</BODY></HTML>
END:VEVENT
BEGIN:VEVENT
UID:ai1ec-987@carlisleps.wa.edu.au
DTSTAMP:20200228T002046Z
CATEGORIES;LANGUAGE=en-AU:Everyone
CONTACT:
DESCRIPTION:Students will attend school from 8:50am until 11.30am. Parent-t
 eacher meetings will begin at 12pm.
DTSTART;TZID=Australia/Perth:20200701T085000
DTEND;TZID=Australia/Perth:20200701T113000
SEQUENCE:0
SUMMARY:Half Day Closure
URL:https://carlisleps.wa.edu.au/event/half-day-closure-2/
X-COST-TYPE:free
X-ALT-DESC;FMTTYPE=text/html:<!DOCTYPE HTML PUBLIC '-//W3C//DTD HTML 3.2//E
 N'>\\n<HTML>\\n<HEAD>\\n<TITLE></TITLE>\\n</HEAD>\\n<BODY><p>Students will
  attend school from 8:50am until 11.30am. Parent-teacher meetings will beg
 in at 12pm.</p>\n</BODY></HTML>
END:VEVENT
BEGIN:VEVENT
UID:ai1ec-988@carlisleps.wa.edu.au
DTSTAMP:20200228T002046Z
CATEGORIES:
CONTACT:
DESCRIPTION:Parent-Teacher meetings will begin at 12pm. Please ensure you h
 ave booked a time online with your child’s teacher.
DTSTART;TZID=Australia/Perth:20200701T120000
DTEND;TZID=Australia/Perth:20200701T170000
SEQUENCE:0
SUMMARY:Parent-Teacher Meetings
URL:https://carlisleps.wa.edu.au/event/parent-teacher-meetings-2/
X-COST-TYPE:free
X-ALT-DESC;FMTTYPE=text/html:<!DOCTYPE HTML PUBLIC '-//W3C//DTD HTML 3.2//E
 N'>\\n<HTML>\\n<HEAD>\\n<TITLE></TITLE>\\n</HEAD>\\n<BODY><div class='trib
 e-events-single-event-description tribe-events-content'>\n<p>Parent-Teache
 r meetings will begin at 12pm. Please ensure you have booked a time online
  with your child’s teacher.</p>\n</div>\n</BODY></HTML>
END:VEVENT
END:VCALENDAR
