BEGIN:VCALENDAR
VERSION:2.0
PRODID:-//104.27.182.32//NONSGML kigkonsult.se iCalcreator 2.26.9//
CALSCALE:GREGORIAN
METHOD:PUBLISH
X-WR-CALNAME:Carlisle Primary School
X-WR-CALDESC:Learn • Grow • Together
X-FROM-URL:https://carlisleps.wa.edu.au
X-WR-TIMEZONE:Australia/Perth
BEGIN:VTIMEZONE
TZID:Australia/Perth
X-LIC-LOCATION:Australia/Perth
BEGIN:STANDARD
DTSTART:20090329T030000
TZOFFSETFROM:+0900
TZOFFSETTO:+0800
TZNAME:AWST
END:STANDARD
END:VTIMEZONE
BEGIN:VEVENT
UID:ai1ec-990@carlisleps.wa.edu.au
DTSTAMP:20200228T011152Z
CATEGORIES:
CONTACT:
DESCRIPTION:
DTSTART;VALUE=DATE:20200721
DTEND;VALUE=DATE:20200722
SEQUENCE:0
SUMMARY:First Day Term 3
URL:https://carlisleps.wa.edu.au/event/first-day-term-3/
X-COST-TYPE:free
END:VEVENT
END:VCALENDAR
