BEGIN:VCALENDAR
VERSION:2.0
PRODID:-//104.27.183.32//NONSGML kigkonsult.se iCalcreator 2.26.9//
CALSCALE:GREGORIAN
METHOD:PUBLISH
X-WR-CALNAME:Carlisle Primary School
X-WR-CALDESC:Learn • Grow • Together
X-FROM-URL:https://carlisleps.wa.edu.au
X-WR-TIMEZONE:Australia/Perth
BEGIN:VTIMEZONE
TZID:Australia/Perth
X-LIC-LOCATION:Australia/Perth
BEGIN:STANDARD
DTSTART:20090329T030000
TZOFFSETFROM:+0900
TZOFFSETTO:+0800
TZNAME:AWST
END:STANDARD
END:VTIMEZONE
BEGIN:VEVENT
UID:ai1ec-983@carlisleps.wa.edu.au
DTSTAMP:20200228T010652Z
CATEGORIES;LANGUAGE=en-AU:Everyone\,Year 6
CONTACT:
DESCRIPTION:<p>Students are not required to attend on this day.</p>
DTSTART;VALUE=DATE:20200410
DTEND;VALUE=DATE:20200411
SEQUENCE:0
SUMMARY:Public Holiday – Good Friday
URL:https://carlisleps.wa.edu.au/event/public-holiday-good-friday/
X-COST-TYPE:free
END:VEVENT
END:VCALENDAR
