BEGIN:VCALENDAR
VERSION:2.0
PRODID:-//104.27.183.32//NONSGML kigkonsult.se iCalcreator 2.26.9//
CALSCALE:GREGORIAN
METHOD:PUBLISH
X-WR-CALNAME:Carlisle Primary School
X-WR-CALDESC:Learn • Grow • Together
X-FROM-URL:https://carlisleps.wa.edu.au
X-WR-TIMEZONE:Australia/Perth
BEGIN:VTIMEZONE
TZID:Australia/Perth
X-LIC-LOCATION:Australia/Perth
BEGIN:STANDARD
DTSTART:20090329T030000
TZOFFSETFROM:+0900
TZOFFSETTO:+0800
TZNAME:AWST
END:STANDARD
END:VTIMEZONE
BEGIN:VEVENT
UID:ai1ec-982@carlisleps.wa.edu.au
DTSTAMP:20200228T010448Z
CATEGORIES:
CONTACT:
DESCRIPTION:Harmony Day will be a day filled with fun for the whole family 
 to enjoy. The day will include a cultural dress parade\, community dance\,
  assembly\, and a shared lunch. It will be a day not to be missed.
DTSTART;TZID=Australia/Perth:20200318T085000
DTEND;TZID=Australia/Perth:20200318T150000
LOCATION:Carlisle Primary School @ 1 Wright Street KEWDALE 6105
SEQUENCE:0
SUMMARY:Harmony Day Celebrations
URL:https://carlisleps.wa.edu.au/event/harmony-day-celebrations/
X-COST-TYPE:free
X-ALT-DESC;FMTTYPE=text/html:<!DOCTYPE HTML PUBLIC '-//W3C//DTD HTML 3.2//E
 N'>\\n<HTML>\\n<HEAD>\\n<TITLE></TITLE>\\n</HEAD>\\n<BODY><p>Harmony Day w
 ill be a day filled with fun for the whole family to enjoy. The day will i
 nclude a cultural dress parade\, community dance\, assembly\, and a shared
  lunch. It will be a day not to be missed.</p>\n</BODY></HTML>
END:VEVENT
END:VCALENDAR
