BEGIN:VCALENDAR
VERSION:2.0
PRODID:-//104.27.182.32//NONSGML kigkonsult.se iCalcreator 2.26.9//
CALSCALE:GREGORIAN
METHOD:PUBLISH
X-WR-CALNAME:Carlisle Primary School
X-WR-CALDESC:Learn • Grow • Together
X-FROM-URL:https://carlisleps.wa.edu.au
X-WR-TIMEZONE:Australia/Perth
BEGIN:VTIMEZONE
TZID:Australia/Perth
X-LIC-LOCATION:Australia/Perth
BEGIN:STANDARD
DTSTART:20090329T030000
TZOFFSETFROM:+0900
TZOFFSETTO:+0800
TZNAME:AWST
END:STANDARD
END:VTIMEZONE
BEGIN:VEVENT
UID:888-1582102500-1582104600@carlisleps.wa.edu.au
DTSTAMP:20200228T005701Z
CATEGORIES;LANGUAGE=en-AU:Everyone
CONTACT:
DESCRIPTION:<p>Our first assembly for the year will be hosted by our Studen
 t Councillors. Assemblies are an opportunity to share in the celebrations 
 of students’ learning successes\, provide updates on school events and inf
 ormation\, and enjoy a performance/item from our students. Please check th
 e calendar for future assembly dates. </p>
DTSTART;TZID=Australia/Perth:20200219T085500
DTEND;TZID=Australia/Perth:20200219T093000
LOCATION:Undercover Area\, 1 Wright Street\, Kewdale\, WA\, 6105\, Australi
 a
SEQUENCE:0
SUMMARY:Assembly – Councillors
URL:https://carlisleps.wa.edu.au/event/assembly-councillors/
END:VEVENT
END:VCALENDAR
