BEGIN:VCALENDAR
VERSION:2.0
PRODID:-//104.27.182.32//NONSGML kigkonsult.se iCalcreator 2.26.9//
CALSCALE:GREGORIAN
METHOD:PUBLISH
X-WR-CALNAME:Carlisle Primary School
X-WR-CALDESC:Learn • Grow • Together
X-FROM-URL:https://carlisleps.wa.edu.au
X-WR-TIMEZONE:Australia/Perth
BEGIN:VTIMEZONE
TZID:Australia/Perth
X-LIC-LOCATION:Australia/Perth
BEGIN:STANDARD
DTSTART:20090329T030000
TZOFFSETFROM:+0900
TZOFFSETTO:+0800
TZNAME:AWST
END:STANDARD
END:VTIMEZONE
BEGIN:VEVENT
UID:393-1582707000-1582759800@carlisleps.wa.edu.au
DTSTAMP:20200228T005806Z
CATEGORIES;LANGUAGE=en-AU:Everyone
CONTACT:
DESCRIPTION:<p>Students will attend school from 8:50am until 11.30am. Paren
 t-teacher meetings will begin at 12pm. </p>
DTSTART;TZID=Australia/Perth:20200226T085000
DTEND;TZID=Australia/Perth:20200226T233000
SEQUENCE:0
SUMMARY:Half Day Closure
URL:https://carlisleps.wa.edu.au/event/half-day-closure/
END:VEVENT
END:VCALENDAR
